BEGIN:VCALENDAR
VERSION:2.0
PRODID:-//BLOOM - Be. Heal.Grow - Spa in Mendocino, CA - ECPv6.15.20//NONSGML v1.0//EN
CALSCALE:GREGORIAN
METHOD:PUBLISH
X-ORIGINAL-URL:https://bloommendo.com
X-WR-CALDESC:Events for BLOOM - Be. Heal.Grow - Spa in Mendocino, CA
REFRESH-INTERVAL;VALUE=DURATION:PT1H
X-Robots-Tag:noindex
X-PUBLISHED-TTL:PT1H
BEGIN:VTIMEZONE
TZID:America/Phoenix
BEGIN:STANDARD
TZOFFSETFROM:-0700
TZOFFSETTO:-0700
TZNAME:MST
DTSTART:20170101T000000
END:STANDARD
END:VTIMEZONE
BEGIN:VEVENT
DTSTART;VALUE=DATE:20211010
DTEND;VALUE=DATE:20211011
DTSTAMP:20260423T095027
CREATED:20210928T204012Z
LAST-MODIFIED:20210928T205520Z
UID:2197-1633824000-1633910399@bloommendo.com
SUMMARY:Headshot
DESCRIPTION:Headshot Event\nIncludes:\n\nLight hair styling\, and light make up application.\n4 edited images\nPhotographer Carrie Mayfield\n\nCall or E-mail to sign-up 707-937-2171 Or danielle@bloommendo.com \n  \n  \n 
URL:https://bloommendo.com/event/headshot/
LOCATION:Bloom Skincare and Makeup\, 45040 Albion Street\, Mendocino\, 95460\, United States
ATTACH;FMTTYPE=image/jpeg:https://bloommendo.com/wp-content/uploads/2021/09/July-2020-3-1-1-scaled.jpg
END:VEVENT
BEGIN:VEVENT
DTSTART;TZID=America/Phoenix:20200406T190000
DTEND;TZID=America/Phoenix:20200406T200000
DTSTAMP:20260423T095027
CREATED:20200403T004309Z
LAST-MODIFIED:20200403T004526Z
UID:1419-1586199600-1586203200@bloommendo.com
SUMMARY:Intro to Gua Sha Online course
DESCRIPTION:Enjoy the many benefits that an at home Gua Sha ritual can provide for your mind\, body and skin. In this 60 minute online coarse I will show you the basic steps needed to do a complete Gua Sha facial routine at home.\n\nGua Sha works encourages the flow of blood\, lymph\, and chi. We work with the lymphatic system by stimulating channels of detoxification right below the skin’s surface to clear away debris. Overtime\, this reduces breakouts\, hyper pigmentation\, and keeps the skin clear. Increased blood flow leaves your complexion looking bright and rosy while firming skin tone and releasing muscular tension.\n\n\nTo enroll:\n\nLog in to your MindBody account *Don’t have one? It’s easy to create an account\, just follow the steps provided. Been here before and can’t remember your password? Reset password by clicking link “reset password”\, we do not have access to your password thus you must reset if you can’t remember it.\nClick “online store”\, then select “services”\, then “classes”\nFollow the steps to complete your purchase. We require pre-payment of class to reserve your spot.\nStill having trouble signing up? email us at: info@bloommendo.com\n\n\nItems you will need for class are listed below:\n\nRecommended Products: available via our online store\n\n\nGua Sha Facial kit: includes jade gua sha stone with ridges\, 1oz Marie Veronique Probiotic mist\, .5oz Code of Harmony Salvation face oil\, Le Mieux Moisture infusion sheet mask\, gua sha handout and case. $70 ($90 value)\nMarie Veronique: Pre/Probiotic or Treatment facial Mist\nCode of Harmony: Salvation oil (contains CBD)\, for sensitive skin types use Le Mieux: Derma Relief serum or Marie Veronique: Barrier Lipid complex\nGua Sha stone from bloommendo.com\, collect them all! Each one designed to treat various parts of the face and body. I recommend starting with the “classic” jade stone tool with ridges and the rose quartz spoon for working around eyes and mouth.\n\n \n 
URL:https://bloommendo.com/event/intro-to-gua-sha-online-course/
LOCATION:online
ATTACH;FMTTYPE=image/jpeg:https://bloommendo.com/wp-content/uploads/2020/04/IMG_4242.jpg
END:VEVENT
BEGIN:VEVENT
DTSTART;TZID=America/Phoenix:20200207T180000
DTEND;TZID=America/Phoenix:20200207T200000
DTSTAMP:20260423T095027
CREATED:20200114T173336Z
LAST-MODIFIED:20200114T173336Z
UID:1304-1581098400-1581105600@bloommendo.com
SUMMARY:Day to Date- makeup class
DESCRIPTION:Join Bloom makeup artists: Danielle Frey and Nicole McDonell in this fun and educational makeup class we have created for anyone wanting to “brush up” their makeup skills. Class will include makeup demonstration with assisted step by step application. \nWe will go over skincare and makeup techniques to achieve a natural daytime makeup look then show you the steps to transition your makeup look for a special evening out. \nThis class is designed for all levels of makeup skills and is meant to inspire and give you the confidence to apply makeup for all occasions that will flatter your unique and beautiful features. No need to bring your makeup\, everything you need for the class will be provided. \n \nLimited number of spaces available for our First class of 2020\nAttendees receive GIFT BAG with makeup and skincare samples\nPersonalized makeup & skincare shopping at end of class with limited edition makeup\ncollections from Glo Minerals\, Henne’\, Illuminaire and much more. All class attendees receive 15% OFF purchase at class. \n \nClass rate: $50 per person \nTo Sign up: \n\nLog in to your MindBody account *Don’t have one? Sign up via link provided. Been here before and can’t remember your password? Reset password by clicking link “reset password”\, we do not have access to your password thus you must reset if you can’t remember it.\nClick “online store”\, then select “services”\, then “classes”\nFollow the steps to complete your purchase. We require pre-payment of class to reserve your seat.\nStill having trouble signing up? Give us a call @ 707.937.2171 or email us info@bloommendo.com
URL:https://bloommendo.com/event/day-to-date-makeup-class/
ATTACH;FMTTYPE=image/jpeg:https://bloommendo.com/wp-content/uploads/2016/06/DanielleFrey-26.jpeg
END:VEVENT
BEGIN:VEVENT
DTSTART;TZID=America/Phoenix:20191123T150000
DTEND;TZID=America/Phoenix:20191123T170000
DTSTAMP:20260423T095027
CREATED:20191107T221728Z
LAST-MODIFIED:20191108T000822Z
UID:1256-1574521200-1574528400@bloommendo.com
SUMMARY:Day to Date
DESCRIPTION:“Day to Date” Makeup Class \nupdate your makeup skills with Danielle & Nicole \nNovember 23 // 3-5pm \nJoin makeup artists: Danielle Frey and Nicole McDonell in this fun and educational makeup class we have created for our clients and anyone wanting to brush up their makeup skills. Class will include makeup demonstration with assisted hands on application during. \nWe will go over skincare and makeup techniques to achieve a natural\, timeless daytime makeup look then show you the steps to transition for a special evening out. This class is designed for all levels of makeup skills and is meant to inspire and give you the confidence to apply makeup for all occasions that will flatter your unique and beautiful features. \nLimited number of spaces available for our last class of 2019 \nAttendees receive GIFT BAG with makeup and skincare samples  \nPersonalized makeup & skincare shopping at end of class with limited edition makeup collections from Glo Minerals\, Henne’\, Illuminaire and much more. \n $80 per person \nclick here to sign up \n“Let the beauty we love be what we do.” Rumi
URL:https://bloommendo.com/event/day-to-date/
LOCATION:Bloom Skincare and Makeup\, 45040 Albion Street\, Mendocino\, 95460\, United States
END:VEVENT
BEGIN:VEVENT
DTSTART;TZID=America/Phoenix:20190510T180000
DTEND;TZID=America/Phoenix:20190510T193000
DTSTAMP:20260423T095027
CREATED:20190419T183802Z
LAST-MODIFIED:20190419T185249Z
UID:1101-1557511200-1557516600@bloommendo.com
SUMMARY:Gua Sha Workshop
DESCRIPTION:Facial gua sha is an acient healing technique originating from traditional Chinese medicine (over 3\,000 years old!). It is a powerful tradition used to create internal balance by softening facial tension and clearing stagnant pathways to allow better flow of lymphatic and circulatory systems. This is done by using a high vibrational jade tool and creating movement with simple upward and outward stokes. By using daily you will feel and see a noticeable difference in your skin texture and tone. \nDuring this Facial Gua Sha workshop\, you will learn basic techniques\, guided step-by-step by a licensed skincare specialist with over 13 years experience specializing in Holistic skincare methods. The goal of this workshop is to incorporate this ritual into your existing skin care routine. It can be done swiftly in 3 minutes if you’re in a hurry\, or in 10-15 minutes when you have a bit more time to dedicate.  \nBy creating a daily self-care ritual\, you will naturally notice changes as your body begins to self heal existing conditions you may be experiencing. It will assit in reducing conditions such as acne\, rosacea\, puffiness\, and dark circles by reducing inflammation and oxygenating the buildup of toxins and cellular waste. My hope is that you feel empowered with this daily self-care ritual to help you transform your skin from the inside out. \nClick here to pre-register! \n** All workshops are subject to a 24 hour cancellation policy. If you cannot attend this workshop please notify at least 24 hours in advance. We can not issue refunds to cancellations made in less than 24 hours. \n**This class is not intended to\, nor will it provide any type of professional certification
URL:https://bloommendo.com/event/gua-sha-workshop/
LOCATION:Bloom Skincare and Makeup\, 45040 Albion Street\, Mendocino\, 95460\, United States
ATTACH;FMTTYPE=image/jpeg:https://bloommendo.com/wp-content/uploads/2019/04/IMG_0351-e1555699920119.jpg
END:VEVENT
BEGIN:VEVENT
DTSTART;TZID=America/Phoenix:20190310T093000
DTEND;TZID=America/Phoenix:20190310T170000
DTSTAMP:20260423T095027
CREATED:20190208T203545Z
LAST-MODIFIED:20190302T202504Z
UID:971-1552210200-1552237200@bloommendo.com
SUMMARY:The Art of "Natural" Makeup
DESCRIPTION:Class will be taught by professional MUA and L.E. Danielle Frey\, who will demonstrate her skincare and makeup techniques to get a glowing  “canvas” and deliver natural\, timeless beauty to your clients. Class will begin with a group intention circle\, shifting to demonstration with Q&A\, followed by hand-on makeup skill building.\n\n\nThis is an opportunity for our artist community to come together\, learn\, have fun\, and manifest goals in a supportive environment.\n\n\nSign up here!\n*You will be redirected to the MindBody booking site\, you will need to create an account if you don’t have one already\n\n\n\n\n\n\n*Please note\, a minimum of $100 deposit is due at time of booking and final payment is due by March 5th\n*Class attendees must provide own kits- no kits will be provided at class
URL:https://bloommendo.com/event/the-art-of-natural-makeup/
LOCATION:Bloom Skincare and Makeup\, 45040 Albion Street\, Mendocino\, 95460\, United States
END:VEVENT
BEGIN:VEVENT
DTSTART;TZID=America/Phoenix:20180729T090000
DTEND;TZID=America/Phoenix:20180729T180000
DTSTAMP:20260423T095027
CREATED:20180621T205456Z
LAST-MODIFIED:20180623T203249Z
UID:782-1532854800-1532887200@bloommendo.com
SUMMARY:Bridal Makeup Workshop for Aspiring Professional Makeup Artists
DESCRIPTION:Instructors: Danielle Frey (Bloom owner\, MUA\, + L.E.) and Nicole McDonell (MUA + L.E.)\n\n\nMaterial Covered:\n\nbooking a job\, what to expect\, what is expected of you\, setting your rate\, etc.\nkit\, sanitation\, helpful tools\n\n\nbridal makeup demo – hands on practice\n\n\n\n\n\nThis Workshop is sold out- Check back for updates on future classes!
URL:https://bloommendo.com/event/bridal-makeup-workshop/
LOCATION:Bloom Skincare and Makeup\, 45040 Albion Street\, Mendocino\, 95460\, United States
END:VEVENT
END:VCALENDAR